BEGIN:VCALENDAR
VERSION:2.0
X-WR-CALNAME: Upcoming shows
PRODID:GIGPRESS 2.0 WORDPRESS PLUGIN
CALSCALE:GREGORIAN
X-WR-TIMEZONE:Etc/GMT
METHOD:PUBLISH
BEGIN:VTIMEZONE
TZID:GMT
BEGIN:STANDARD
DTSTART:20071028T010000
TZOFFSETTO:+0000
TZOFFSETFROM:+0000
END:STANDARD
END:VTIMEZONE
BEGIN:VEVENT
SUMMARY:Lee Aaron at Red Deer Resort & Casino
DESCRIPTION:
LOCATION:Red Deer Resort & Casino\, Red Deer\, CA
UID:20260425-255-SaladGoat@gmail.com
URL:https://www.leeaaron.com/red-deer-resort-casino-april-25-2026/
DTSTART;VALUE=DATE;TZID=GMT:20260425
DTEND;VALUE=DATE;TZID=GMT:20260425
DTSTAMP:20260424T031958Z
END:VEVENT
BEGIN:VEVENT
SUMMARY:Lee Aaron at Heavy Sound Festival
DESCRIPTION:
LOCATION:Heavy Sound Festival\, Poperinge\, BE
UID:20260516-258-SaladGoat@gmail.com
URL:https://www.leeaaron.com/heavy-sound-festival-may-16-2026/
DTSTART;VALUE=DATE;TZID=GMT:20260516
DTEND;VALUE=DATE;TZID=GMT:20260516
DTSTAMP:20260424T031958Z
END:VEVENT
BEGIN:VEVENT
SUMMARY:Lee Aaron at The Arrowhead
DESCRIPTION:
LOCATION:The Arrowhead\, Calgary\, CA
UID:20260530-256-SaladGoat@gmail.com
URL:https://www.leeaaron.com/the-arrowhead-may-30-2026/
DTSTART;VALUE=DATE;TZID=GMT:20260530
DTEND;VALUE=DATE;TZID=GMT:20260530
DTSTAMP:20260424T031958Z
END:VEVENT
BEGIN:VEVENT
SUMMARY:Lee Aaron at Bill Reid Millenium Amphitheatre
DESCRIPTION:Price: Free Admission. Notes: with Josh Ross for <a href="https://surreycanadaday.ca/" target="_blank">Canada Day</a> 
LOCATION:Bill Reid Millenium Amphitheatre\, Cloverdale\, CA
UID:20260701-259-SaladGoat@gmail.com
URL:http://www.leeaaron.com/live-dates/
DTSTART;VALUE=DATE;TZID=GMT:20260701
DTEND;VALUE=DATE;TZID=GMT:20260701
DTSTAMP:20260424T031958Z
END:VEVENT
BEGIN:VEVENT
SUMMARY:Lee Aaron at Grace Hartman Amphitheatre
DESCRIPTION:
LOCATION:Grace Hartman Amphitheatre\, Sudbury\, CA
UID:20260807-260-SaladGoat@gmail.com
URL:http://www.leeaaron.com/live-dates/
DTSTART;VALUE=DATE;TZID=GMT:20260807
DTEND;VALUE=DATE;TZID=GMT:20260807
DTSTAMP:20260424T031958Z
END:VEVENT
BEGIN:VEVENT
SUMMARY:Lee Aaron at RockStock Canada
DESCRIPTION:
LOCATION:RockStock Canada\, Alliston\, CA
UID:20260815-257-SaladGoat@gmail.com
URL:https://www.leeaaron.com/rockstock-canada-august-15-2026/
DTSTART;VALUE=DATE;TZID=GMT:20260815
DTEND;VALUE=DATE;TZID=GMT:20260815
DTSTAMP:20260424T031958Z
END:VEVENT
BEGIN:VEVENT
SUMMARY:Lee Aaron at Rock The Harbour
DESCRIPTION:
LOCATION:Rock The Harbour\, Dartmouth\, CA
UID:20260816-253-SaladGoat@gmail.com
URL:https://www.leeaaron.com/rock-the-harbour-august-16-2026/
DTSTART;VALUE=DATE;TZID=GMT:20260816
DTEND;VALUE=DATE;TZID=GMT:20260816
DTSTAMP:20260424T031958Z
END:VEVENT
END:VCALENDAR